BEGIN:VCALENDAR
VERSION:2.0
PRODID:-//ChamberMaster//Event Calendar 2.0//EN
METHOD:PUBLISH
X-PUBLISHED-TTL:P3D
REFRESH-INTERVAL:P3D
CALSCALE:GREGORIAN
BEGIN:VEVENT
DTSTART:20170218T150000Z
DTEND:20170218T180000Z
X-MICROSOFT-CDO-ALLDAYEVENT:FALSE
SUMMARY:2017 Annual Kidfish
DESCRIPTION:
X-ALT-DESC;FMTTYPE=text/html:
LOCATION:Legacy Fields Pond
UID:e.1278.5080
SEQUENCE:3
DTSTAMP:20260426T000905Z
URL:http://elcampochamber.chambermaster.com/events/details/2017-annual-kidfish-5080
END:VEVENT

END:VCALENDAR
