BEGIN:VCALENDAR
VERSION:2.0
PRODID:-//ChamberMaster//Event Calendar 2.0//EN
METHOD:PUBLISH
X-PUBLISHED-TTL:P3D
REFRESH-INTERVAL:P3D
CALSCALE:GREGORIAN
BEGIN:VEVENT
DTSTART:20170309T230000Z
DTEND:20170310T003000Z
X-MICROSOFT-CDO-ALLDAYEVENT:FALSE
SUMMARY:Bow Wow Benefit Dinner
DESCRIPTION:SPOT is hosting a Bow Wow Benefit Dinner to support the homeless dogs and cats of Wharton County. Tickets are $9 each and include chicken fried chicken with gravy\, buttered potatoes\, green beans and homemade bread catered by Ben's Chuckwagon. For El Campo tickets\, contact Kay Sikes at 979.541.9232 or they're available at Coastal Plains Animal Hospital or Country Pets\; for Wharton tickets\, contact SPOT at 979.253.3446 (leave a message) or they're available at Alamont and Wharton Vet Clinics.
X-ALT-DESC;FMTTYPE=text/html:SPOT is hosting a Bow Wow Benefit Dinner to support the homeless dogs and cats of Wharton County. Tickets are $9 each and include chicken fried chicken with gravy\, buttered potatoes\, green beans and homemade bread catered by Ben&#39\;s Chuckwagon. For El Campo tickets\, contact Kay Sikes at 979.541.9232 or they&#39\;re available at Coastal Plains Animal Hospital or Country Pets\; for Wharton tickets\, contact SPOT at 979.253.3446 (leave a message) or they&#39\;re available at Alamont and Wharton Vet Clinics.
LOCATION:K.C. Hall\, El Campo\, TX
UID:e.1278.5097
SEQUENCE:3
DTSTAMP:20260425T234006Z
URL:http://elcampochamber.chambermaster.com/events/details/bow-wow-benefit-dinner-5097
END:VEVENT

END:VCALENDAR
