BEGIN:VCALENDAR
VERSION:2.0
PRODID:-//ChamberMaster//Event Calendar 2.0//EN
METHOD:PUBLISH
X-PUBLISHED-TTL:P3D
REFRESH-INTERVAL:P3D
CALSCALE:GREGORIAN
BEGIN:VEVENT
DTSTART:20171114T130000Z
DTEND:20171114T150000Z
X-MICROSOFT-CDO-ALLDAYEVENT:FALSE
SUMMARY:Coffee with a Cop!
DESCRIPTION:
X-ALT-DESC;FMTTYPE=text/html:
LOCATION:Paint Perfection
UID:e.1278.5192
SEQUENCE:3
DTSTAMP:20260421T001033Z
URL:http://elcampochamber.chambermaster.com/events/details/coffee-with-a-cop-11-14-2017-5192
END:VEVENT

END:VCALENDAR
