BEGIN:VCALENDAR
VERSION:2.0
PRODID:-//ChamberMaster//Event Calendar 2.0//EN
METHOD:PUBLISH
X-PUBLISHED-TTL:P3D
REFRESH-INTERVAL:P3D
CALSCALE:GREGORIAN
BEGIN:VEVENT
DTSTART:20180324T133000Z
DTEND:20180324T163000Z
X-MICROSOFT-CDO-ALLDAYEVENT:FALSE
SUMMARY:Easter Extravaganza
DESCRIPTION:Evans Park 8:30AM - 11:30AM
X-ALT-DESC;FMTTYPE=text/html:Evans Park 8:30AM - 11:30AM
LOCATION:
UID:e.1278.5402
SEQUENCE:3
DTSTAMP:20260419T205325Z
URL:http://elcampochamber.chambermaster.com/events/details/easter-extravaganza-5402
END:VEVENT

END:VCALENDAR
