BEGIN:VCALENDAR
VERSION:2.0
PRODID:-//ChamberMaster//Event Calendar 2.0//EN
METHOD:PUBLISH
X-PUBLISHED-TTL:P3D
REFRESH-INTERVAL:P3D
CALSCALE:GREGORIAN
BEGIN:VEVENT
DTSTART;VALUE=DATE:20170320
DTEND;VALUE=DATE:20170321
TRANSP:TRANSPARENT
X-MICROSOFT-CDO-ALLDAYEVENT:TRUE
SUMMARY:ECVFD Appreciation Supper Monday
DESCRIPTION:
X-ALT-DESC;FMTTYPE=text/html:
LOCATION:El Campo Civic Center
UID:e.1278.5138
SEQUENCE:3
DTSTAMP:20260426T002858Z
URL:http://elcampochamber.chambermaster.com/events/details/ecvfd-appreciation-supper-monday-5138
END:VEVENT

END:VCALENDAR
