BEGIN:VCALENDAR
VERSION:2.0
PRODID:-//ChamberMaster//Event Calendar 2.0//EN
METHOD:PUBLISH
X-PUBLISHED-TTL:P3D
REFRESH-INTERVAL:P3D
CALSCALE:GREGORIAN
BEGIN:VEVENT
DTSTART:20170602T140000Z
DTEND:20170602T230000Z
X-MICROSOFT-CDO-ALLDAYEVENT:FALSE
SUMMARY:El Campo Art Show
DESCRIPTION:Art Entry Only
X-ALT-DESC;FMTTYPE=text/html:Art Entry Only
LOCATION:
UID:e.1278.5157
SEQUENCE:3
DTSTAMP:20260424T060725Z
URL:http://elcampochamber.chambermaster.com/events/details/el-campo-art-show-5157
END:VEVENT

END:VCALENDAR
