BEGIN:VCALENDAR
VERSION:2.0
PRODID:-//ChamberMaster//Event Calendar 2.0//EN
METHOD:PUBLISH
X-PUBLISHED-TTL:P3D
REFRESH-INTERVAL:P3D
CALSCALE:GREGORIAN
BEGIN:VEVENT
DTSTART;VALUE=DATE:20170727
DTEND;VALUE=DATE:20170728
TRANSP:TRANSPARENT
X-MICROSOFT-CDO-ALLDAYEVENT:TRUE
SUMMARY:El Campo Worship Night
DESCRIPTION:
X-ALT-DESC;FMTTYPE=text/html:
LOCATION:Alamo Park
UID:e.1278.5188
SEQUENCE:3
DTSTAMP:20260425T122903Z
URL:http://elcampochamber.chambermaster.com/events/details/el-campo-worship-night-5188
END:VEVENT

END:VCALENDAR
