BEGIN:VCALENDAR
VERSION:2.0
PRODID:-//ChamberMaster//Event Calendar 2.0//EN
METHOD:PUBLISH
X-PUBLISHED-TTL:P3D
REFRESH-INTERVAL:P3D
CALSCALE:GREGORIAN
BEGIN:VEVENT
DTSTART:20171102T150000Z
DTEND:20171102T170000Z
X-MICROSOFT-CDO-ALLDAYEVENT:FALSE
SUMMARY:Empty Place at the Table
DESCRIPTION:Houston Hospice is offering a special seminar to help you learn tools to increase coping during this potentially difficult time. During this two hour session you will have the opportunity to: hear suggestions on coping with family traditions\, share your feelings and fears about the holidays and to connect with others who will also be experiencing an Empty Place at the Table this year
X-ALT-DESC;FMTTYPE=text/html:Houston Hospice is offering a special seminar to help you learn tools to increase coping during this potentially difficult time. During this two hour session you will have the opportunity to: hear suggestions on coping with family traditions\, share your feelings and fears about the holidays and to connect with others who will also be experiencing an Empty Place at the Table this year
LOCATION:Houston Hospice - El Campo 1102 N. Mechanic El Campo\, TX 77437
UID:e.1278.5376
SEQUENCE:3
DTSTAMP:20260420T121014Z
URL:http://elcampochamber.chambermaster.com/events/details/empty-place-at-the-table-5376
END:VEVENT

END:VCALENDAR
