BEGIN:VCALENDAR
VERSION:2.0
PRODID:-//ChamberMaster//Event Calendar 2.0//EN
METHOD:PUBLISH
X-PUBLISHED-TTL:P3D
REFRESH-INTERVAL:P3D
CALSCALE:GREGORIAN
BEGIN:VEVENT
DTSTART:20171116T230000Z
DTEND:20171117T003000Z
X-MICROSOFT-CDO-ALLDAYEVENT:FALSE
SUMMARY:Manna Meals
DESCRIPTION:
X-ALT-DESC;FMTTYPE=text/html:
LOCATION:500 Foerster St.\, El Campo. Between 4th and 5th street
UID:e.1278.4145
SEQUENCE:3
DTSTAMP:20260420T165404Z
URL:http://elcampochamber.chambermaster.com/events/details/manna-meals-11-16-2017-4145
END:VEVENT

END:VCALENDAR
