BEGIN:VCALENDAR
VERSION:2.0
PRODID:-//ChamberMaster//Event Calendar 2.0//EN
METHOD:PUBLISH
X-PUBLISHED-TTL:P3D
REFRESH-INTERVAL:P3D
CALSCALE:GREGORIAN
BEGIN:VEVENT
DTSTART:20171204T030000Z
DTEND:20171204T050000Z
X-MICROSOFT-CDO-ALLDAYEVENT:FALSE
SUMMARY:National Guard Breakfast
DESCRIPTION:
X-ALT-DESC;FMTTYPE=text/html:
LOCATION:
UID:e.1278.5340
SEQUENCE:3
DTSTAMP:20260420T045457Z
URL:http://elcampochamber.chambermaster.com/events/details/national-guard-breakfast-5340
END:VEVENT

END:VCALENDAR
