BEGIN:VCALENDAR
VERSION:2.0
PRODID:-//ChamberMaster//Event Calendar 2.0//EN
METHOD:PUBLISH
X-PUBLISHED-TTL:P3D
REFRESH-INTERVAL:P3D
CALSCALE:GREGORIAN
BEGIN:VEVENT
DTSTART:20180312T230000Z
DTEND:20180313T003000Z
X-MICROSOFT-CDO-ALLDAYEVENT:FALSE
SUMMARY:Pat Blakely Book Talk- Wharton County Library
DESCRIPTION:Mrs. Pat Blakely has written her first novel\, The Whiseley Chronicles\, a historical novel set during the 1600s in the Virginia Colony of England. Please join us and learn how Mrs. Blakely used the knowledge of her ancestors in the writing of this novel. Pat Blakely is a twelfth generation American and fifth generation Texan who was born and reared in the South Texas ranch country. She now resides with her husband\, Doc Blakely\, on their ranch in Wharton County.\n\n\n\nBooks will be available for sale before and after the presentation.
X-ALT-DESC;FMTTYPE=text/html:<span class="_4n-j _3cht fsl" data-testid="event-permalink-details">Mrs. Pat Blakely has written her first novel\, The Whiseley Chronicles\, a historical novel set during the 1600s in the Virginia Colony of England. Please join us and learn how Mrs. Blakely used the knowledge of her ancestors in the writing of this novel. Pat Blakely is a twelfth generation American and fifth generation Texan who was born and reared in the South Texas ranch country. She now resides with her husband\, Doc Blakely\, on their ranch in Wharton County.<br />\n<br />\nBooks will be available for sale before and after the presentation.</span>
LOCATION:1920 N. Fulton St. Wharton\, TX 77488
UID:e.1278.5409
SEQUENCE:3
DTSTAMP:20260421T165832Z
URL:http://elcampochamber.chambermaster.com/events/details/pat-blakely-book-talk-wharton-county-library-5409
END:VEVENT

END:VCALENDAR
