BEGIN:VCALENDAR
VERSION:2.0
PRODID:-//ChamberMaster//Event Calendar 2.0//EN
METHOD:PUBLISH
X-PUBLISHED-TTL:P3D
REFRESH-INTERVAL:P3D
CALSCALE:GREGORIAN
BEGIN:VEVENT
DTSTART:20171203T170000Z
DTEND:20171203T200000Z
X-MICROSOFT-CDO-ALLDAYEVENT:FALSE
SUMMARY:Plainview Social
DESCRIPTION:Chicken noodle soup & chicken salad sandwich meal.
X-ALT-DESC;FMTTYPE=text/html:Chicken noodle soup &amp\; chicken salad sandwich meal.
LOCATION:3673 FM-441 Louise TX
UID:e.1278.5371
SEQUENCE:3
DTSTAMP:20260420T045353Z
URL:http://elcampochamber.chambermaster.com/events/details/plainview-social-5371
END:VEVENT

END:VCALENDAR
