BEGIN:VCALENDAR
VERSION:2.0
PRODID:-//ChamberMaster//Event Calendar 2.0//EN
METHOD:PUBLISH
X-PUBLISHED-TTL:P3D
REFRESH-INTERVAL:P3D
CALSCALE:GREGORIAN
BEGIN:VEVENT
DTSTART:20171128T223000Z
DTEND:20171129T000000Z
X-MICROSOFT-CDO-ALLDAYEVENT:FALSE
SUMMARY:Project Graduation Beef Tips over Rice Dinner
DESCRIPTION:
X-ALT-DESC;FMTTYPE=text/html:
LOCATION:
UID:e.1278.5173
SEQUENCE:3
DTSTAMP:20260423T053122Z
URL:http://elcampochamber.chambermaster.com/events/details/project-graduation-beef-tips-over-rice-dinner-5173
END:VEVENT

END:VCALENDAR
