BEGIN:VCALENDAR
VERSION:2.0
PRODID:-//ChamberMaster//Event Calendar 2.0//EN
METHOD:PUBLISH
X-PUBLISHED-TTL:P3D
REFRESH-INTERVAL:P3D
CALSCALE:GREGORIAN
BEGIN:VEVENT
DTSTART:20170822T213000Z
DTEND:20170822T230000Z
X-MICROSOFT-CDO-ALLDAYEVENT:FALSE
SUMMARY:Project Graduation Chicken Fried Steak Dinner
DESCRIPTION:
X-ALT-DESC;FMTTYPE=text/html:
LOCATION:
UID:e.1278.5171
SEQUENCE:3
DTSTAMP:20260422T163507Z
URL:http://elcampochamber.chambermaster.com/events/details/project-graduation-chicken-fried-steak-dinner-5171
END:VEVENT

END:VCALENDAR
