BEGIN:VCALENDAR
VERSION:2.0
PRODID:-//ChamberMaster//Event Calendar 2.0//EN
METHOD:PUBLISH
X-PUBLISHED-TTL:P3D
REFRESH-INTERVAL:P3D
CALSCALE:GREGORIAN
BEGIN:VEVENT
DTSTART:20170917T160000Z
DTEND:20170917T180000Z
X-MICROSOFT-CDO-ALLDAYEVENT:FALSE
SUMMARY:Project Graduation Fried Chicken Dinner
DESCRIPTION:
X-ALT-DESC;FMTTYPE=text/html:
LOCATION:
UID:e.1278.5174
SEQUENCE:3
DTSTAMP:20260421T195218Z
URL:http://elcampochamber.chambermaster.com/events/details/project-graduation-fried-chicken-dinner-5174
END:VEVENT

END:VCALENDAR
