BEGIN:VCALENDAR
VERSION:2.0
PRODID:-//ChamberMaster//Event Calendar 2.0//EN
METHOD:PUBLISH
X-PUBLISHED-TTL:P3D
REFRESH-INTERVAL:P3D
CALSCALE:GREGORIAN
BEGIN:VEVENT
DTSTART:20170617T000000Z
DTEND:20170617T140000Z
X-MICROSOFT-CDO-ALLDAYEVENT:FALSE
SUMMARY:Ricebelt Truck & Antique Tractor Pull
DESCRIPTION:13th Annual Ricebelt Truck & Antique Tractor Pull\, benefitting Everyday Heroes Veteran's Transportation Fund.\n\nKiddy Pull begins 2 pm
X-ALT-DESC;FMTTYPE=text/html:13th Annual Ricebelt Truck &amp\; Antique Tractor Pull\, benefitting Everyday Heroes Veteran's Transportation Fund.\n\nKiddy Pull begins 2 pm
LOCATION:American Legion expansion grounds\, Hwy 71 S. El Campo\, TX
UID:e.1278.5175
SEQUENCE:3
DTSTAMP:20260422T184252Z
URL:http://elcampochamber.chambermaster.com/events/details/ricebelt-truck-antique-tractor-pull-5175
END:VEVENT

END:VCALENDAR
