BEGIN:VCALENDAR
VERSION:2.0
PRODID:-//ChamberMaster//Event Calendar 2.0//EN
METHOD:PUBLISH
X-PUBLISHED-TTL:P3D
REFRESH-INTERVAL:P3D
CALSCALE:GREGORIAN
BEGIN:VEVENT
DTSTART:20180527T150000Z
DTEND:20180527T170000Z
X-MICROSOFT-CDO-ALLDAYEVENT:FALSE
SUMMARY:South Texas Timed Rodeo
DESCRIPTION:Calf roping\, steer decorating\, ladies barrel racing\, and steer wrestling
X-ALT-DESC;FMTTYPE=text/html:Calf roping\, steer decorating\, ladies barrel racing\, and steer wrestling
LOCATION:6036 FM 961 Wharton\, TX Wharton County Fairgrounds
UID:e.1278.5558
SEQUENCE:3
DTSTAMP:20260420T145227Z
URL:http://elcampochamber.chambermaster.com/events/details/south-texas-timed-rodeo-5558
END:VEVENT

END:VCALENDAR
